BEGIN:VCALENDAR
PRODID:-//eluceo/ical//2.0/EN
VERSION:2.0
CALSCALE:GREGORIAN
BEGIN:VEVENT
UID:a28e2be3d002d93a77eb105db23187e0
DTSTAMP:20260421T231457Z
SUMMARY:CoCa – Training – Was wäre wenn…? (Insel intern)
URL:https://palliativzentrum.insel.ch/de/veranstaltungen/details/detail/coc
 a-training-was-waere-wenn-insel-intern-4
DTSTART;TZID=+02:00:20260806T120000
DTEND;TZID=+02:00:20260806T130000
LOCATION:Inselspital Areal - Anna von Krauchtahl Haus\, Stock F\, Raum 012
END:VEVENT
END:VCALENDAR
